BEGIN:VCALENDAR
VERSION:2.0
PRODID:-//ChamberMaster//Event Calendar 2.0//EN
METHOD:PUBLISH
X-PUBLISHED-TTL:P3D
REFRESH-INTERVAL:P3D
CALSCALE:GREGORIAN
BEGIN:VEVENT
DTSTART:20210216T223000Z
DTEND:20210217T000000Z
X-MICROSOFT-CDO-ALLDAYEVENT:FALSE
SUMMARY:StartUp Fayette
DESCRIPTION:Providing startups and entrepreneurs on the southside of Atlanta access to the education and training they need to succeed. This month we will be discussing the importance of Public Relations for StartUps. \n\n\nPlease visit startupfayette.org to register!
X-ALT-DESC;FMTTYPE=text/html:<h1 class="et_pb_module_header" style="box-sizing: border-box\; margin: 0px\; padding: 0px 0px 10px\; border: 0px\; outline: 0px\; background-image: initial\; background-position: 0px 0px\; background-size: initial\; background-repeat: initial\; background-attachment: initial\; background-origin: initial\; background-clip: initial\; font-size: 31px\; vertical-align: baseline\; text-size-adjust: 100%\; color: rgb(255\, 255\, 255)\; font-weight: 700\; line-height: 1.4em\; font-family: Montserrat\, Helvetica\, Arial\, Lucida\, sans-serif\;"><span style="color:#000000\;"><span style="font-size:14px\;">Providing startups and entrepreneurs on the southside of Atlanta access to the education and training they need to succeed. This month we will be discussing the importance of Public Relations for StartUps.&nbsp\;</span></span></h1>\n<br />\n<a href="https://startupfayette.org/">Please visit startupfayette.org to register</a>!&nbsp\;
LOCATION:Launch and Go 470 Commerce Dr Peachtree City\, GA 30269 (Second Floor)
UID:e.436.11584
SEQUENCE:3
DTSTAMP:20260420T175054Z
URL:https://business.fayettechamber.org/events/details/startup-fayette-02-23-2021-11584
END:VEVENT

END:VCALENDAR
