BEGIN:VCALENDAR
VERSION:2.0
PRODID:-//ChamberMaster//Event Calendar 2.0//EN
METHOD:PUBLISH
X-PUBLISHED-TTL:P3D
REFRESH-INTERVAL:P3D
CALSCALE:GREGORIAN
BEGIN:VEVENT
DTSTART:20260528T153000Z
DTEND:20260528T170000Z
X-MICROSOFT-CDO-ALLDAYEVENT:FALSE
SUMMARY:Ribbon Cutting: Tailored Smiles Family Dentistry
DESCRIPTION:Join us as we celebrate the ribbon cutting for Tailored Smiles Family Dentistry.\n\n\n\nRibbon Cutting begins at 11:30am.
X-ALT-DESC;FMTTYPE=text/html:<p><span style="font-size:14px\;"><span style="font-family:arial\;"><span style="white-space-collapse: preserve\;">Join us as we celebrate the ribbon cutting for </span>Tailored Smiles Family Dentistry.<br />\n<br />\nRibbon Cutting begins at 11:30am.</span></span></p>\n
LOCATION:
UID:e.436.13496
SEQUENCE:3
DTSTAMP:20260420T124618Z
URL:https://business.fayettechamber.org/events/details/ribbon-cutting-tailored-smiles-family-dentistry-13496
END:VEVENT

END:VCALENDAR
