BEGIN:VCALENDAR
VERSION:2.0
PRODID:-//ChamberMaster//Event Calendar 2.0//EN
METHOD:PUBLISH
X-PUBLISHED-TTL:P3D
REFRESH-INTERVAL:P3D
CALSCALE:GREGORIAN
BEGIN:VEVENT
DTSTART:20260428T123000Z
DTEND:20260428T133000Z
X-MICROSOFT-CDO-ALLDAYEVENT:FALSE
SUMMARY:Fayette Investor Network Discovery Meeting
DESCRIPTION:This 2nd Fayette Investor Network Discovery meeting is part of an ongoing series to create awareness about the potential of crowdfund and angel investing in our community.
X-ALT-DESC;FMTTYPE=text/html:<span style="font-family:aptos\,sans-serif\;"><span style="font-size:12.0pt\;">This 2nd Fayette Investor Network Discovery meeting is part of an ongoing series to create awareness about the potential of crowdfund and angel investing in our community.&nbsp\;&nbsp\;</span></span>
LOCATION:Launch Fayette The Center of Innovation 250 S Peachtree Parkway Peachtree City\, GA 30269
UID:e.436.13497
SEQUENCE:3
DTSTAMP:20260420T210152Z
URL:https://business.fayettechamber.org/events/details/fayette-investor-network-discovery-meeting-13497
END:VEVENT

END:VCALENDAR
