BEGIN:VCALENDAR
VERSION:2.0
PRODID:-//ChamberMaster//Event Calendar 2.0//EN
METHOD:PUBLISH
X-PUBLISHED-TTL:P3D
REFRESH-INTERVAL:P3D
CALSCALE:GREGORIAN
BEGIN:VEVENT
DTSTART:20260505T213000Z
DTEND:20260505T233000Z
X-MICROSOFT-CDO-ALLDAYEVENT:FALSE
SUMMARY:2026 Fayette County Candidate Meet & Greet and Forum
DESCRIPTION:Get informed\, get connected\, and get involved at the Fayette County Candidate Forum & Meet & Greet! This dynamic event brings together candidates for the Board of Education\, Board of Commissioners\, and State Court Judge for an evening of conversation and community engagement. Hear firsthand where candidates stand\, ask questions that matter to you\, and make personal connections with those seeking to lead Fayette County's future. An excellent opportunity for voters to engage\, learn\, and participate in local civic life.\n\n\n\nThank you to the Peachtree City Rotary\, Fayetteville Rotary\, and Peachtree City Christian Church for sponsoring this program.
X-ALT-DESC;FMTTYPE=text/html:<p class="xmsonormal"><span style="font-size:11.0pt">Get informed\, get connected\, and get involved at the Fayette County Candidate Forum &amp\; Meet &amp\; Greet! This dynamic event brings together candidates for the Board of Education\, Board of Commissioners\, and State Court Judge for an evening of conversation and community engagement. Hear firsthand where candidates stand\, ask questions that matter to you\, and make personal connections with those seeking to lead Fayette County&rsquo\;s future. An excellent opportunity for voters to engage\, learn\, and participate in local civic life.<br />\n<br />\nThank you to the Peachtree City Rotary\, Fayetteville Rotary\, and Peachtree City Christian Church for sponsoring this program.</span></p>\n
LOCATION:Peachtree City Christian Church
UID:e.436.13498
SEQUENCE:3
DTSTAMP:20260422T175902Z
URL:https://business.fayettechamber.org/events/details/2026-fayette-county-candidate-meet-greet-and-forum-13498
END:VEVENT

END:VCALENDAR
