BEGIN:VCALENDAR
VERSION:2.0
PRODID:-//ChamberMaster//Event Calendar 2.0//EN
METHOD:PUBLISH
X-PUBLISHED-TTL:P3D
REFRESH-INTERVAL:P3D
CALSCALE:GREGORIAN
BEGIN:VEVENT
DTSTART:20251028T120000Z
DTEND:20251028T140000Z
X-MICROSOFT-CDO-ALLDAYEVENT:FALSE
SUMMARY:2025 Business Growth Essentials - October
DESCRIPTION:New Educational Program for Small Businesses\nThis program is aimed at helping established small businesses understand the key elements needed to reach the next level of growth in 2025 and beyond. Our quarterly meetings dive into strategies for expanding and scaling your business beyond your current position. \n\n\n\nWinning in an AI World: The Human Advantage\n\nAI is changing the way every industry operates but it can't replace what makes you unforgettable.\n\nJoin leaders from Chick-Fil-A\, Piedmont Fayette\, and Muldrow Marketing as they reveal real strategies you can put to work immediately to:\n\n\n	Build a company culture people want to follow.\n	Earn trust and loyalty your competitors can't automate.\n	Stand out in the market even as technology levels the playing field.\n\nYou'll leave with specific\, human-powered tactics to keep your business memorable and competitive\, plus new connections with peers facing the same challenges.\n\n\n\nSpeakers Include:\n\n	Doug Barnett\, Owner/Operator of 3 CFA franchise stores\n	Melissa Turner\, Manager of Patient Experience for Piedmont Fayette\n	Jordan Guest-Johnson\, Manager of Operations and Customer Satisfaction for Muldrow Marketing
X-ALT-DESC;FMTTYPE=text/html:<p><strong><span style="color:black\;">New Educational Program for Small Businesses</span></strong></p>\nThis program is aimed at helping established small businesses understand the key elements needed to reach the next level of growth in 2025 and beyond. Our quarterly meetings dive into strategies for expanding and scaling your business beyond your current position.&nbsp\;<br />\n<br />\n<strong><span style="font-family:aptos\,sans-serif\;"><span style="font-size:12.0pt\;">Winning in an AI World: The Human Advantage</span></span></strong><br />\nAI is changing the way every industry operates&mdash\;but it can&rsquo\;t replace what makes you unforgettable.<br />\nJoin leaders from Chick-Fil-A\, Piedmont Fayette\, and Muldrow Marketing as they reveal&nbsp\;<strong data-end="518" data-start="467"><span style="font-family:aptos\,sans-serif\;">real strategies you can put to work immediately</span></strong>&nbsp\;to:\n\n<ul>\n	<li data-end="576" data-start="526">Build a company culture people want to follow.</li>\n	<li data-end="636" data-start="577">Earn trust and loyalty your competitors can&rsquo\;t automate.</li>\n	<li data-end="709" data-start="637">Stand out in the market&mdash\;even as technology levels the playing field.</li>\n</ul>\nYou&rsquo\;ll leave with&nbsp\;<strong data-end="764" data-start="729"><span style="font-family:aptos\,sans-serif\;">specific\, human-powered tactics</span></strong>&nbsp\;to keep your business memorable and competitive\, plus new connections with peers facing the same challenges.<br />\n<br />\nSpeakers Include:\n<ol>\n	<li>Doug Barnett\, Owner/Operator of 3 CFA franchise stores</li>\n	<li>Melissa Turner\, Manager of Patient Experience for Piedmont Fayette</li>\n	<li>Jordan Guest-Johnson\, Manager of Operations and Customer Satisfaction for Muldrow Marketing</li>\n</ol>\n
LOCATION:Launch Fayette at The Center of Innovation 250 S. Peachtree Pkwy Peachtree City\, GA 30269
UID:e.436.13245
SEQUENCE:3
DTSTAMP:20260421T102005Z
URL:https://business.fayettechamber.org/events/details/2025-business-growth-essentials-october-13245
END:VEVENT

END:VCALENDAR
