BEGIN:VCALENDAR
VERSION:2.0
PRODID:-//ChamberMaster//Event Calendar 2.0//EN
METHOD:PUBLISH
X-PUBLISHED-TTL:P3D
REFRESH-INTERVAL:P3D
CALSCALE:GREGORIAN
BEGIN:VEVENT
DTSTART:20170804T123000Z
DTEND:20170804T140000Z
X-MICROSOFT-CDO-ALLDAYEVENT:FALSE
SUMMARY:Zac Brown Tour
DESCRIPTION:Zac Brown's Southern Ground is pulling back the curtain and giving guests a peek into all the moving parts that are a major asset to a GRAMMY award-winning act.\n\nWhether it's merchandise and jewelry design\, custom knife production\, metal fabrication\, wood working\, leather goods production\, video production or working with a devoted fan club\, all artists have teams that make their visions come to life\, but very few house them all under one roof! This is what makes Southern Ground a truly unique entity and an experience you must see for yourself! 100% of profit goes to Camp Southern Ground. Learn more at southernground.com or campsouthernground.org
X-ALT-DESC;FMTTYPE=text/html:<p style="box-sizing: border-box\; max-width: 100%\; color: rgb(51\, 54\, 56)\; font-family: proxima-nova\, -apple-system\, BlinkMacSystemFont\, &quot\;Segoe UI&quot\;\, Roboto\, Oxygen\, Ubuntu\, Cantarell\, &quot\;Fira Sans&quot\;\, &quot\;Droid Sans&quot\;\, &quot\;Helvetica Neue&quot\;\, sans-serif\; font-size: 14px\; margin: 0px 0px 15px !important\;">Zac Brown&#39\;s Southern Ground is pulling back the curtain and giving guests a peek into all the moving parts that are a major asset to a GRAMMY award-winning act.</p>\n\n<p style="box-sizing: border-box\; max-width: 100%\; color: rgb(51\, 54\, 56)\; font-family: proxima-nova\, -apple-system\, BlinkMacSystemFont\, &quot\;Segoe UI&quot\;\, Roboto\, Oxygen\, Ubuntu\, Cantarell\, &quot\;Fira Sans&quot\;\, &quot\;Droid Sans&quot\;\, &quot\;Helvetica Neue&quot\;\, sans-serif\; font-size: 14px\; margin: 0px 0px 15px !important\;">Whether it&#39\;s merchandise and jewelry design\, custom knife production\, metal fabrication\, wood working\, leather goods production\, video production or working with a devoted fan club\, all artists have teams that make their visions come to life\, but very few house them all under one roof! This is what makes Southern Ground a truly unique entity and an experience you must see for yourself! 100% of profit goes to Camp Southern Ground. Learn more at southernground.com or campsouthernground.org</p>\n
LOCATION:Zac Brown's Southern Ground Headquarters Tour 101 Gardner Park Peachtree City\, GA 30269
UID:e.436.7775
SEQUENCE:3
DTSTAMP:20260423T113813Z
URL:http://business.fayettechamber.org/events/details/zac-brown-tour-7775
END:VEVENT

END:VCALENDAR
